BEGIN:VCALENDAR
VERSION:2.0
PRODID:-//Tukios.com/
BEGIN:VEVENT
UID:7586cf3f-d065-4903-86ad-841260e632f2@www.moorefhs.com
DTSTAMP:20260424T213756Z
DTSTART:20260428T180000Z
DTEND:20260428T190000Z
SUMMARY:Celebration of Life
DESCRIPTION:
URL:https://www.moorefhs.com/obituaries/cindy-adams
LOCATION: 11910 S Main St  Trenton GA 30752
GEO:34.8662828;-85.5126128
END:VEVENT
END:VCALENDAR