BEGIN:VCALENDAR
VERSION:2.0
PRODID:-//Tukios.com/
BEGIN:VEVENT
UID:2681bfb3-4b3e-46a2-b40d-51c5fba0d862@www.moorefhs.com
DTSTAMP:20260424T213707Z
DTSTART:20260428T170000Z
DTEND:20260428T180000Z
SUMMARY:Visitation
DESCRIPTION:
URL:https://www.moorefhs.com/obituaries/cindy-adams
LOCATION: 11910 S Main St  Trenton GA 30752
GEO:34.8662828;-85.5126128
END:VEVENT
END:VCALENDAR