BEGIN:VCALENDAR
VERSION:2.0
PRODID:-//Tukios.com/
BEGIN:VEVENT
UID:88adb866-b5c8-44cf-a789-da5ee81e2678@www.moorefhs.com
DTSTAMP:20260424T213953Z
DTSTART:20260428
SUMMARY:Other
DESCRIPTION:
URL:https://www.moorefhs.com/obituaries/cindy-adams
LOCATION: 13205 North Main Street  Trenton GA 30752
GEO:34.8833621;-85.5032923
END:VEVENT
END:VCALENDAR