BEGIN:VCALENDAR
VERSION:2.0
PRODID:-//Tukios.com/
BEGIN:VEVENT
UID:6f05bd09-5cd2-430f-b079-cd985d092938@www.moorefhs.com
DTSTAMP:20260424T235150Z
DTSTART:20260427T150000Z
DTEND:20260427T160000Z
SUMMARY:Graveside Service
DESCRIPTION:
URL:https://www.moorefhs.com/obituaries/mary-wood
LOCATION:Hooker Cemetery  GA-299  Wildwood GA 30757
GEO:34.9795344;-85.4310737
END:VEVENT
END:VCALENDAR